BEGIN:VCALENDAR
VERSION:2.0
PRODID:-//River Bluff HOA - ECPv6.3.7//NONSGML v1.0//EN
CALSCALE:GREGORIAN
METHOD:PUBLISH
X-WR-CALNAME:River Bluff HOA
X-ORIGINAL-URL:https://www.riverbluffhoa.org
X-WR-CALDESC:Events for River Bluff HOA
REFRESH-INTERVAL;VALUE=DURATION:PT1H
X-Robots-Tag:noindex
X-PUBLISHED-TTL:PT1H
BEGIN:VTIMEZONE
TZID:America/New_York
BEGIN:DAYLIGHT
TZOFFSETFROM:-0500
TZOFFSETTO:-0400
TZNAME:EDT
DTSTART:20240310T070000
END:DAYLIGHT
BEGIN:STANDARD
TZOFFSETFROM:-0400
TZOFFSETTO:-0500
TZNAME:EST
DTSTART:20241103T060000
END:STANDARD
END:VTIMEZONE
BEGIN:VEVENT
DTSTART;TZID=America/New_York:20241031T173000
DTEND;TZID=America/New_York:20241031T183000
DTSTAMP:20260422T062329
CREATED:20240916T022516Z
LAST-MODIFIED:20241029T020520Z
UID:20481-1730395800-1730399400@www.riverbluffhoa.org
SUMMARY:Halloween Pizza Party
DESCRIPTION:All ages are welcome!  Come in costume or come as you are! \nPizza will be provided (donations to offset the cost are accepted).  BYOB \nBring wrapped candy to share with the kids! \nThis party is primarily for the kids.  Adults who attend always have a good time as well. \nPLEASE RSVP (so we know how many pizzas to get) and indicate how many adults and how many children (and ages of children) are attending. \nIf you have not paid the $100 annual HOA dues for 2024\, or would like to pre-pay your 2025 dues\, you may bring a check to the event.  Thank you!
URL:https://www.riverbluffhoa.org/event/halloween-pizza-party/
LOCATION:Chattahoochee Bluff Cul-de-sac\, 7225 Chattahoochee Bluff Dr.
ORGANIZER;CN="River Bluff Community Director":MAILTO:rbcommunity@riverbluffhoa.org
END:VEVENT
END:VCALENDAR