BEGIN:VCALENDAR
VERSION:2.0
PRODID:-//River Bluff HOA - ECPv6.3.7//NONSGML v1.0//EN
CALSCALE:GREGORIAN
METHOD:PUBLISH
X-ORIGINAL-URL:https://www.riverbluffhoa.org
X-WR-CALDESC:Events for River Bluff HOA
REFRESH-INTERVAL;VALUE=DURATION:PT1H
X-Robots-Tag:noindex
X-PUBLISHED-TTL:PT1H
BEGIN:VTIMEZONE
TZID:America/New_York
BEGIN:DAYLIGHT
TZOFFSETFROM:-0500
TZOFFSETTO:-0400
TZNAME:EDT
DTSTART:20240310T070000
END:DAYLIGHT
BEGIN:STANDARD
TZOFFSETFROM:-0400
TZOFFSETTO:-0500
TZNAME:EST
DTSTART:20241103T060000
END:STANDARD
END:VTIMEZONE
BEGIN:VEVENT
DTSTART;TZID=America/New_York:20241109T150000
DTEND;TZID=America/New_York:20241109T170000
DTSTAMP:20260422T044247
CREATED:20240902T162437Z
LAST-MODIFIED:20241019T013549Z
UID:19615-1731164400-1731171600@www.riverbluffhoa.org
SUMMARY:River Bluff Book Club
DESCRIPTION:Introducing a neighborhood book club! \nThe book that will be discussed is “The Teacher” by Frieda McFadden. \nBYOB and an appetizer to share.
URL:https://www.riverbluffhoa.org/event/river-bluff-book-club/
LOCATION:Home of Tiffany Colarusso\, 5015 Spruce Bluff Drive\, Sandy Springs\, GA\, 30350\, United States
ORGANIZER;CN="Tiffany Colarusso":MAILTO:contactus@riverbluffhoa.org
END:VEVENT
END:VCALENDAR