BEGIN:VCALENDAR
VERSION:2.0
PRODID:-//River Bluff HOA - ECPv6.3.7//NONSGML v1.0//EN
CALSCALE:GREGORIAN
METHOD:PUBLISH
X-WR-CALNAME:River Bluff HOA
X-ORIGINAL-URL:https://www.riverbluffhoa.org
X-WR-CALDESC:Events for River Bluff HOA
REFRESH-INTERVAL;VALUE=DURATION:PT1H
X-Robots-Tag:noindex
X-PUBLISHED-TTL:PT1H
BEGIN:VTIMEZONE
TZID:America/New_York
BEGIN:DAYLIGHT
TZOFFSETFROM:-0500
TZOFFSETTO:-0400
TZNAME:EDT
DTSTART:20230312T070000
END:DAYLIGHT
BEGIN:STANDARD
TZOFFSETFROM:-0400
TZOFFSETTO:-0500
TZNAME:EST
DTSTART:20231105T060000
END:STANDARD
END:VTIMEZONE
BEGIN:VEVENT
DTSTART;TZID=America/New_York:20231031T170000
DTEND;TZID=America/New_York:20231031T190000
DTSTAMP:20260423T120601
CREATED:20231007T151649Z
LAST-MODIFIED:20231007T152945Z
UID:2266-1698771600-1698778800@www.riverbluffhoa.org
SUMMARY:River Bluff Halloween Party!
DESCRIPTION:ALL ages are welcome at the River Bluff Halloween Party! \nCome in costume or come as yourself! \nPizza and bottled water will be provided (contributions accepted). \nBYOB adult beverages. \nPlease RSVP so we know how much pizza to order. \nPlease submit dietary restrictions in the Comment section below.  Thank you! \n \n 
URL:https://www.riverbluffhoa.org/event/river-bluff-halloween-party/
LOCATION:Chattahoochee Bluff Cul-de-sac\, 7225 Chattahoochee Bluff Dr.
END:VEVENT
END:VCALENDAR