BEGIN:VCALENDAR
VERSION:2.0
PRODID:-//River Bluff HOA - ECPv6.3.7//NONSGML v1.0//EN
CALSCALE:GREGORIAN
METHOD:PUBLISH
X-WR-CALNAME:River Bluff HOA
X-ORIGINAL-URL:https://www.riverbluffhoa.org
X-WR-CALDESC:Events for River Bluff HOA
REFRESH-INTERVAL;VALUE=DURATION:PT1H
X-Robots-Tag:noindex
X-PUBLISHED-TTL:PT1H
BEGIN:VTIMEZONE
TZID:America/New_York
BEGIN:DAYLIGHT
TZOFFSETFROM:-0500
TZOFFSETTO:-0400
TZNAME:EDT
DTSTART:20240310T070000
END:DAYLIGHT
BEGIN:STANDARD
TZOFFSETFROM:-0400
TZOFFSETTO:-0500
TZNAME:EST
DTSTART:20241103T060000
END:STANDARD
END:VTIMEZONE
BEGIN:VEVENT
DTSTART;TZID=America/New_York:20240803T150000
DTEND;TZID=America/New_York:20240803T170000
DTSTAMP:20260422T112552
CREATED:20240712T180352Z
LAST-MODIFIED:20240720T194753Z
UID:17437-1722697200-1722704400@www.riverbluffhoa.org
SUMMARY:River Bluff Summer Splash - Pool Party!
DESCRIPTION:PLEASE RSVP BY JULY 31.  Thank you! \nThis event will occur rain or shine! \nKristin O’Hara will provide the following beers:\nMiller lite\nCoors light\nCoors banquet\nBlue moon\nBlue moon light\nBlue moon non alcoholic\nSimply spiked\nTopo hard seltzer\nHappy Thursday\nPeroni \nPlease: \n\n\n\nSign-up for shareable snacks or other beverages you would like to bring: https://www.signupgenius.com/go/30E0C45AFA62A1-50379656-summer#/\nBring your own pool towel.\n\n\n\nPlease address questions to our Community Director\, Lori Boyce\, at rbcommunity@riverbluffhoa.org.  Thank you!
URL:https://www.riverbluffhoa.org/event/river-bluff-summer-splash-pool-party/
LOCATION:Home of Kristin O’Hara\, 5010 Spruce Bluff\, Sandy Springs\, GA\, 30350\, United States
ORGANIZER;CN="Lori Boyce":MAILTO:rbcommunity@riverbluffhoa.org
END:VEVENT
END:VCALENDAR