BEGIN:VCALENDAR
VERSION:2.0
PRODID:-//River Bluff HOA - ECPv6.3.7//NONSGML v1.0//EN
CALSCALE:GREGORIAN
METHOD:PUBLISH
X-ORIGINAL-URL:https://www.riverbluffhoa.org
X-WR-CALDESC:Events for River Bluff HOA
REFRESH-INTERVAL;VALUE=DURATION:PT1H
X-Robots-Tag:noindex
X-PUBLISHED-TTL:PT1H
BEGIN:VTIMEZONE
TZID:America/New_York
BEGIN:DAYLIGHT
TZOFFSETFROM:-0500
TZOFFSETTO:-0400
TZNAME:EDT
DTSTART:20250309T070000
END:DAYLIGHT
BEGIN:STANDARD
TZOFFSETFROM:-0400
TZOFFSETTO:-0500
TZNAME:EST
DTSTART:20251102T060000
END:STANDARD
END:VTIMEZONE
BEGIN:VEVENT
DTSTART;TZID=America/New_York:20251031T173000
DTEND;TZID=America/New_York:20251031T183000
DTSTAMP:20260420T184848
CREATED:20250810T003133Z
LAST-MODIFIED:20251031T010705Z
UID:41067-1761931800-1761935400@www.riverbluffhoa.org
SUMMARY:Halloween Pizza Party (enter EVENT-SPECIFIC password to access)
DESCRIPTION:Content is protected.
URL:https://www.riverbluffhoa.org/event/halloween-pizza-party-2/
LOCATION:Chattahoochee Bluff Cul-de-sac\, 7225 Chattahoochee Bluff Dr.
ORGANIZER;CN="River Bluff Community Director":MAILTO:rbcommunity@riverbluffhoa.org
END:VEVENT
END:VCALENDAR