BEGIN:VCALENDAR
VERSION:2.0
PRODID:-//River Bluff HOA - ECPv6.3.7//NONSGML v1.0//EN
CALSCALE:GREGORIAN
METHOD:PUBLISH
X-WR-CALNAME:River Bluff HOA
X-ORIGINAL-URL:https://www.riverbluffhoa.org
X-WR-CALDESC:Events for River Bluff HOA
REFRESH-INTERVAL;VALUE=DURATION:PT1H
X-Robots-Tag:noindex
X-PUBLISHED-TTL:PT1H
BEGIN:VTIMEZONE
TZID:America/New_York
BEGIN:DAYLIGHT
TZOFFSETFROM:-0500
TZOFFSETTO:-0400
TZNAME:EDT
DTSTART:20260308T070000
END:DAYLIGHT
BEGIN:STANDARD
TZOFFSETFROM:-0400
TZOFFSETTO:-0500
TZNAME:EST
DTSTART:20261101T060000
END:STANDARD
END:VTIMEZONE
BEGIN:VEVENT
DTSTART;TZID=America/New_York:20260329T140000
DTEND;TZID=America/New_York:20260329T150000
DTSTAMP:20260420T095150
CREATED:20260313T140241Z
LAST-MODIFIED:20260313T140241Z
UID:45363-1774792800-1774796400@www.riverbluffhoa.org
SUMMARY:RBHOA Annual Meeting
DESCRIPTION:Topics to discuss includes updates on lighting and landscape of the entrances. \nAs part of this meeting\, we will elect Board  members for the year beginning July 1\, 2026.  Several Board positions are open.  The responsibilities of each Board position are listed in the RBHOA Bylaws (available from the website Help page).  If you would like information on the Board positions or are interested in becoming involved\, please reach out to one of the current Board members.  This does not require a large time commitment and new ideas are always welcome. \nWe hope to see you at the HOA meeting.
URL:https://www.riverbluffhoa.org/event/rbhoa-annual-meeting-2/
LOCATION:Home of Pita Mugica\, 5035 Magnolia Bluff Drive\, Sandy Springs\, GA\, 30350\, United States
END:VEVENT
END:VCALENDAR